BEGIN:VCALENDAR
VERSION:2.0
PRODID:-//Welcome to South Angle Farm Park - ECPv6.15.20//NONSGML v1.0//EN
CALSCALE:GREGORIAN
METHOD:PUBLISH
X-ORIGINAL-URL:https://www.southanglefarmpark.co.uk
X-WR-CALDESC:Events for Welcome to South Angle Farm Park
REFRESH-INTERVAL;VALUE=DURATION:PT1H
X-Robots-Tag:noindex
X-PUBLISHED-TTL:PT1H
BEGIN:VTIMEZONE
TZID:UTC
BEGIN:STANDARD
TZOFFSETFROM:+0000
TZOFFSETTO:+0000
TZNAME:UTC
DTSTART:20260101T000000
END:STANDARD
END:VTIMEZONE
BEGIN:VEVENT
DTSTART;TZID=UTC:20270110T100000
DTEND;TZID=UTC:20270111T095959
DTSTAMP:20260420T225608
CREATED:20260130T115408Z
LAST-MODIFIED:20260130T115408Z
UID:10005851-1799575200-1799661599@www.southanglefarmpark.co.uk
SUMMARY:Closed for Winter
DESCRIPTION:
URL:https://www.southanglefarmpark.co.uk/event/closed-for-winter-2/2027-01-10/
LOCATION:South Angle Farm Park\, United Kingdom
CATEGORIES:We are closed
END:VEVENT
BEGIN:VEVENT
DTSTART;TZID=UTC:20270111T100000
DTEND;TZID=UTC:20270112T095959
DTSTAMP:20260420T225608
CREATED:20250121T121018Z
LAST-MODIFIED:20260205T123934Z
UID:10001678-1799661600-1799747999@www.southanglefarmpark.co.uk
SUMMARY:Closed - Term Time Mondays
DESCRIPTION:
URL:https://www.southanglefarmpark.co.uk/event/closed-2-2/2027-01-11/
LOCATION:South Angle Farm Park\, United Kingdom
CATEGORIES:We are closed
END:VEVENT
BEGIN:VEVENT
DTSTART;TZID=UTC:20270112T100000
DTEND;TZID=UTC:20270113T095959
DTSTAMP:20260420T225608
CREATED:20260130T115408Z
LAST-MODIFIED:20260130T115408Z
UID:10005852-1799748000-1799834399@www.southanglefarmpark.co.uk
SUMMARY:Closed for Winter
DESCRIPTION:
URL:https://www.southanglefarmpark.co.uk/event/closed-for-winter-2/2027-01-12/
LOCATION:South Angle Farm Park\, United Kingdom
CATEGORIES:We are closed
END:VEVENT
BEGIN:VEVENT
DTSTART;TZID=UTC:20270113T100000
DTEND;TZID=UTC:20270114T095959
DTSTAMP:20260420T225608
CREATED:20260130T115408Z
LAST-MODIFIED:20260130T115408Z
UID:10005853-1799834400-1799920799@www.southanglefarmpark.co.uk
SUMMARY:Closed for Winter
DESCRIPTION:
URL:https://www.southanglefarmpark.co.uk/event/closed-for-winter-2/2027-01-13/
LOCATION:South Angle Farm Park\, United Kingdom
CATEGORIES:We are closed
END:VEVENT
BEGIN:VEVENT
DTSTART;TZID=UTC:20270114T100000
DTEND;TZID=UTC:20270115T095959
DTSTAMP:20260420T225608
CREATED:20260130T115408Z
LAST-MODIFIED:20260130T115408Z
UID:10005854-1799920800-1800007199@www.southanglefarmpark.co.uk
SUMMARY:Closed for Winter
DESCRIPTION:
URL:https://www.southanglefarmpark.co.uk/event/closed-for-winter-2/2027-01-14/
LOCATION:South Angle Farm Park\, United Kingdom
CATEGORIES:We are closed
END:VEVENT
BEGIN:VEVENT
DTSTART;TZID=UTC:20270115T100000
DTEND;TZID=UTC:20270116T095959
DTSTAMP:20260420T225608
CREATED:20260130T115408Z
LAST-MODIFIED:20260130T115408Z
UID:10005855-1800007200-1800093599@www.southanglefarmpark.co.uk
SUMMARY:Closed for Winter
DESCRIPTION:
URL:https://www.southanglefarmpark.co.uk/event/closed-for-winter-2/2027-01-15/
LOCATION:South Angle Farm Park\, United Kingdom
CATEGORIES:We are closed
END:VEVENT
BEGIN:VEVENT
DTSTART;TZID=UTC:20270116T100000
DTEND;TZID=UTC:20270117T095959
DTSTAMP:20260420T225608
CREATED:20260130T115408Z
LAST-MODIFIED:20260130T115408Z
UID:10005856-1800093600-1800179999@www.southanglefarmpark.co.uk
SUMMARY:Closed for Winter
DESCRIPTION:
URL:https://www.southanglefarmpark.co.uk/event/closed-for-winter-2/2027-01-16/
LOCATION:South Angle Farm Park\, United Kingdom
CATEGORIES:We are closed
END:VEVENT
BEGIN:VEVENT
DTSTART;TZID=UTC:20270117T100000
DTEND;TZID=UTC:20270118T095959
DTSTAMP:20260420T225608
CREATED:20260130T115408Z
LAST-MODIFIED:20260130T115408Z
UID:10005857-1800180000-1800266399@www.southanglefarmpark.co.uk
SUMMARY:Closed for Winter
DESCRIPTION:
URL:https://www.southanglefarmpark.co.uk/event/closed-for-winter-2/2027-01-17/
LOCATION:South Angle Farm Park\, United Kingdom
CATEGORIES:We are closed
END:VEVENT
END:VCALENDAR