BEGIN:VCALENDAR
VERSION:2.0
PRODID:-//Welcome to South Angle Farm Park - ECPv6.15.20//NONSGML v1.0//EN
CALSCALE:GREGORIAN
METHOD:PUBLISH
X-WR-CALNAME:Welcome to South Angle Farm Park
X-ORIGINAL-URL:https://www.southanglefarmpark.co.uk
X-WR-CALDESC:Events for Welcome to South Angle Farm Park
REFRESH-INTERVAL;VALUE=DURATION:PT1H
X-Robots-Tag:noindex
X-PUBLISHED-TTL:PT1H
BEGIN:VTIMEZONE
TZID:UTC
BEGIN:STANDARD
TZOFFSETFROM:+0000
TZOFFSETTO:+0000
TZNAME:UTC
DTSTART:20260101T000000
END:STANDARD
END:VTIMEZONE
BEGIN:VEVENT
DTSTART;TZID=UTC:20270103T100000
DTEND;TZID=UTC:20270104T095959
DTSTAMP:20260420T171852
CREATED:20260130T115408Z
LAST-MODIFIED:20260130T115408Z
UID:10005845-1798970400-1799056799@www.southanglefarmpark.co.uk
SUMMARY:Closed for Winter
DESCRIPTION:
URL:https://www.southanglefarmpark.co.uk/event/closed-for-winter-2/2027-01-03/
LOCATION:South Angle Farm Park\, United Kingdom
CATEGORIES:We are closed
END:VEVENT
BEGIN:VEVENT
DTSTART;TZID=UTC:20270104T100000
DTEND;TZID=UTC:20270105T095959
DTSTAMP:20260420T171852
CREATED:20250121T121018Z
LAST-MODIFIED:20260205T123934Z
UID:10001677-1799056800-1799143199@www.southanglefarmpark.co.uk
SUMMARY:Closed - Term Time Mondays
DESCRIPTION:
URL:https://www.southanglefarmpark.co.uk/event/closed-2-2/2027-01-04/
LOCATION:South Angle Farm Park\, United Kingdom
CATEGORIES:We are closed
END:VEVENT
BEGIN:VEVENT
DTSTART;TZID=UTC:20270105T100000
DTEND;TZID=UTC:20270106T095959
DTSTAMP:20260420T171852
CREATED:20260130T115408Z
LAST-MODIFIED:20260130T115408Z
UID:10005846-1799143200-1799229599@www.southanglefarmpark.co.uk
SUMMARY:Closed for Winter
DESCRIPTION:
URL:https://www.southanglefarmpark.co.uk/event/closed-for-winter-2/2027-01-05/
LOCATION:South Angle Farm Park\, United Kingdom
CATEGORIES:We are closed
END:VEVENT
BEGIN:VEVENT
DTSTART;TZID=UTC:20270106T100000
DTEND;TZID=UTC:20270107T095959
DTSTAMP:20260420T171852
CREATED:20260130T115408Z
LAST-MODIFIED:20260130T115408Z
UID:10005847-1799229600-1799315999@www.southanglefarmpark.co.uk
SUMMARY:Closed for Winter
DESCRIPTION:
URL:https://www.southanglefarmpark.co.uk/event/closed-for-winter-2/2027-01-06/
LOCATION:South Angle Farm Park\, United Kingdom
CATEGORIES:We are closed
END:VEVENT
BEGIN:VEVENT
DTSTART;TZID=UTC:20270107T100000
DTEND;TZID=UTC:20270108T095959
DTSTAMP:20260420T171852
CREATED:20260130T115408Z
LAST-MODIFIED:20260130T115408Z
UID:10005848-1799316000-1799402399@www.southanglefarmpark.co.uk
SUMMARY:Closed for Winter
DESCRIPTION:
URL:https://www.southanglefarmpark.co.uk/event/closed-for-winter-2/2027-01-07/
LOCATION:South Angle Farm Park\, United Kingdom
CATEGORIES:We are closed
END:VEVENT
BEGIN:VEVENT
DTSTART;TZID=UTC:20270108T100000
DTEND;TZID=UTC:20270109T095959
DTSTAMP:20260420T171852
CREATED:20260130T115408Z
LAST-MODIFIED:20260130T115408Z
UID:10005849-1799402400-1799488799@www.southanglefarmpark.co.uk
SUMMARY:Closed for Winter
DESCRIPTION:
URL:https://www.southanglefarmpark.co.uk/event/closed-for-winter-2/2027-01-08/
LOCATION:South Angle Farm Park\, United Kingdom
CATEGORIES:We are closed
END:VEVENT
BEGIN:VEVENT
DTSTART;TZID=UTC:20270109T100000
DTEND;TZID=UTC:20270110T095959
DTSTAMP:20260420T171852
CREATED:20260130T115408Z
LAST-MODIFIED:20260130T115408Z
UID:10005850-1799488800-1799575199@www.southanglefarmpark.co.uk
SUMMARY:Closed for Winter
DESCRIPTION:
URL:https://www.southanglefarmpark.co.uk/event/closed-for-winter-2/2027-01-09/
LOCATION:South Angle Farm Park\, United Kingdom
CATEGORIES:We are closed
END:VEVENT
BEGIN:VEVENT
DTSTART;TZID=UTC:20270110T100000
DTEND;TZID=UTC:20270111T095959
DTSTAMP:20260420T171852
CREATED:20260130T115408Z
LAST-MODIFIED:20260130T115408Z
UID:10005851-1799575200-1799661599@www.southanglefarmpark.co.uk
SUMMARY:Closed for Winter
DESCRIPTION:
URL:https://www.southanglefarmpark.co.uk/event/closed-for-winter-2/2027-01-10/
LOCATION:South Angle Farm Park\, United Kingdom
CATEGORIES:We are closed
END:VEVENT
END:VCALENDAR