BEGIN:VCALENDAR
VERSION:2.0
PRODID:-//Welcome to South Angle Farm Park - ECPv6.15.20//NONSGML v1.0//EN
CALSCALE:GREGORIAN
METHOD:PUBLISH
X-ORIGINAL-URL:https://www.southanglefarmpark.co.uk
X-WR-CALDESC:Events for Welcome to South Angle Farm Park
REFRESH-INTERVAL;VALUE=DURATION:PT1H
X-Robots-Tag:noindex
X-PUBLISHED-TTL:PT1H
BEGIN:VTIMEZONE
TZID:UTC
BEGIN:STANDARD
TZOFFSETFROM:+0000
TZOFFSETTO:+0000
TZNAME:UTC
DTSTART:20250101T000000
END:STANDARD
END:VTIMEZONE
BEGIN:VEVENT
DTSTART;TZID=UTC:20261227T100000
DTEND;TZID=UTC:20261228T095959
DTSTAMP:20260420T225811
CREATED:20260130T115408Z
LAST-MODIFIED:20260130T115408Z
UID:10005839-1798365600-1798451999@www.southanglefarmpark.co.uk
SUMMARY:Closed for Winter
DESCRIPTION:
URL:https://www.southanglefarmpark.co.uk/event/closed-for-winter-2/2026-12-27/
LOCATION:South Angle Farm Park\, United Kingdom
CATEGORIES:We are closed
END:VEVENT
BEGIN:VEVENT
DTSTART;TZID=UTC:20261228T100000
DTEND;TZID=UTC:20261229T095959
DTSTAMP:20260420T225811
CREATED:20250121T121018Z
LAST-MODIFIED:20260205T123934Z
UID:10001676-1798452000-1798538399@www.southanglefarmpark.co.uk
SUMMARY:Closed - Term Time Mondays
DESCRIPTION:
URL:https://www.southanglefarmpark.co.uk/event/closed-2-2/2026-12-28/
LOCATION:South Angle Farm Park\, United Kingdom
CATEGORIES:We are closed
END:VEVENT
BEGIN:VEVENT
DTSTART;TZID=UTC:20261229T100000
DTEND;TZID=UTC:20261230T095959
DTSTAMP:20260420T225811
CREATED:20260130T115408Z
LAST-MODIFIED:20260130T115408Z
UID:10005840-1798538400-1798624799@www.southanglefarmpark.co.uk
SUMMARY:Closed for Winter
DESCRIPTION:
URL:https://www.southanglefarmpark.co.uk/event/closed-for-winter-2/2026-12-29/
LOCATION:South Angle Farm Park\, United Kingdom
CATEGORIES:We are closed
END:VEVENT
BEGIN:VEVENT
DTSTART;TZID=UTC:20261230T100000
DTEND;TZID=UTC:20261231T095959
DTSTAMP:20260420T225811
CREATED:20260130T115408Z
LAST-MODIFIED:20260130T115408Z
UID:10005841-1798624800-1798711199@www.southanglefarmpark.co.uk
SUMMARY:Closed for Winter
DESCRIPTION:
URL:https://www.southanglefarmpark.co.uk/event/closed-for-winter-2/2026-12-30/
LOCATION:South Angle Farm Park\, United Kingdom
CATEGORIES:We are closed
END:VEVENT
BEGIN:VEVENT
DTSTART;TZID=UTC:20261231T100000
DTEND;TZID=UTC:20270101T095959
DTSTAMP:20260420T225811
CREATED:20260130T115408Z
LAST-MODIFIED:20260130T115408Z
UID:10005842-1798711200-1798797599@www.southanglefarmpark.co.uk
SUMMARY:Closed for Winter
DESCRIPTION:
URL:https://www.southanglefarmpark.co.uk/event/closed-for-winter-2/2026-12-31/
LOCATION:South Angle Farm Park\, United Kingdom
CATEGORIES:We are closed
END:VEVENT
BEGIN:VEVENT
DTSTART;TZID=UTC:20270101T100000
DTEND;TZID=UTC:20270102T095959
DTSTAMP:20260420T225811
CREATED:20260130T115408Z
LAST-MODIFIED:20260130T115408Z
UID:10005843-1798797600-1798883999@www.southanglefarmpark.co.uk
SUMMARY:Closed for Winter
DESCRIPTION:
URL:https://www.southanglefarmpark.co.uk/event/closed-for-winter-2/2027-01-01/
LOCATION:South Angle Farm Park\, United Kingdom
CATEGORIES:We are closed
END:VEVENT
BEGIN:VEVENT
DTSTART;TZID=UTC:20270102T100000
DTEND;TZID=UTC:20270103T095959
DTSTAMP:20260420T225811
CREATED:20260130T115408Z
LAST-MODIFIED:20260130T115408Z
UID:10005844-1798884000-1798970399@www.southanglefarmpark.co.uk
SUMMARY:Closed for Winter
DESCRIPTION:
URL:https://www.southanglefarmpark.co.uk/event/closed-for-winter-2/2027-01-02/
LOCATION:South Angle Farm Park\, United Kingdom
CATEGORIES:We are closed
END:VEVENT
BEGIN:VEVENT
DTSTART;TZID=UTC:20270103T100000
DTEND;TZID=UTC:20270104T095959
DTSTAMP:20260420T225811
CREATED:20260130T115408Z
LAST-MODIFIED:20260130T115408Z
UID:10005845-1798970400-1799056799@www.southanglefarmpark.co.uk
SUMMARY:Closed for Winter
DESCRIPTION:
URL:https://www.southanglefarmpark.co.uk/event/closed-for-winter-2/2027-01-03/
LOCATION:South Angle Farm Park\, United Kingdom
CATEGORIES:We are closed
END:VEVENT
END:VCALENDAR