BEGIN:VCALENDAR
VERSION:2.0
PRODID:-//Welcome to South Angle Farm Park - ECPv6.15.20//NONSGML v1.0//EN
CALSCALE:GREGORIAN
METHOD:PUBLISH
X-ORIGINAL-URL:https://www.southanglefarmpark.co.uk
X-WR-CALDESC:Events for Welcome to South Angle Farm Park
REFRESH-INTERVAL;VALUE=DURATION:PT1H
X-Robots-Tag:noindex
X-PUBLISHED-TTL:PT1H
BEGIN:VTIMEZONE
TZID:UTC
BEGIN:STANDARD
TZOFFSETFROM:+0000
TZOFFSETTO:+0000
TZNAME:UTC
DTSTART:20250101T000000
END:STANDARD
END:VTIMEZONE
BEGIN:VEVENT
DTSTART;TZID=UTC:20261221T100000
DTEND;TZID=UTC:20261222T095959
DTSTAMP:20260420T172409
CREATED:20250121T121018Z
LAST-MODIFIED:20260205T123934Z
UID:10001675-1797847200-1797933599@www.southanglefarmpark.co.uk
SUMMARY:Closed - Term Time Mondays
DESCRIPTION:
URL:https://www.southanglefarmpark.co.uk/event/closed-2-2/2026-12-21/
LOCATION:South Angle Farm Park\, United Kingdom
CATEGORIES:We are closed
END:VEVENT
BEGIN:VEVENT
DTSTART;TZID=UTC:20261222T100000
DTEND;TZID=UTC:20261223T095959
DTSTAMP:20260420T172409
CREATED:20260130T115408Z
LAST-MODIFIED:20260130T115408Z
UID:10005834-1797933600-1798019999@www.southanglefarmpark.co.uk
SUMMARY:Closed for Winter
DESCRIPTION:
URL:https://www.southanglefarmpark.co.uk/event/closed-for-winter-2/2026-12-22/
LOCATION:South Angle Farm Park\, United Kingdom
CATEGORIES:We are closed
END:VEVENT
BEGIN:VEVENT
DTSTART;TZID=UTC:20261223T100000
DTEND;TZID=UTC:20261224T095959
DTSTAMP:20260420T172409
CREATED:20260130T115408Z
LAST-MODIFIED:20260130T115408Z
UID:10005835-1798020000-1798106399@www.southanglefarmpark.co.uk
SUMMARY:Closed for Winter
DESCRIPTION:
URL:https://www.southanglefarmpark.co.uk/event/closed-for-winter-2/2026-12-23/
LOCATION:South Angle Farm Park\, United Kingdom
CATEGORIES:We are closed
END:VEVENT
BEGIN:VEVENT
DTSTART;TZID=UTC:20261224T100000
DTEND;TZID=UTC:20261225T095959
DTSTAMP:20260420T172409
CREATED:20260130T115408Z
LAST-MODIFIED:20260130T115408Z
UID:10005836-1798106400-1798192799@www.southanglefarmpark.co.uk
SUMMARY:Closed for Winter
DESCRIPTION:
URL:https://www.southanglefarmpark.co.uk/event/closed-for-winter-2/2026-12-24/
LOCATION:South Angle Farm Park\, United Kingdom
CATEGORIES:We are closed
END:VEVENT
BEGIN:VEVENT
DTSTART;TZID=UTC:20261225T100000
DTEND;TZID=UTC:20261226T095959
DTSTAMP:20260420T172409
CREATED:20260130T115408Z
LAST-MODIFIED:20260130T115408Z
UID:10005837-1798192800-1798279199@www.southanglefarmpark.co.uk
SUMMARY:Closed for Winter
DESCRIPTION:
URL:https://www.southanglefarmpark.co.uk/event/closed-for-winter-2/2026-12-25/
LOCATION:South Angle Farm Park\, United Kingdom
CATEGORIES:We are closed
END:VEVENT
BEGIN:VEVENT
DTSTART;TZID=UTC:20261226T100000
DTEND;TZID=UTC:20261227T095959
DTSTAMP:20260420T172409
CREATED:20260130T115408Z
LAST-MODIFIED:20260130T115408Z
UID:10005838-1798279200-1798365599@www.southanglefarmpark.co.uk
SUMMARY:Closed for Winter
DESCRIPTION:
URL:https://www.southanglefarmpark.co.uk/event/closed-for-winter-2/2026-12-26/
LOCATION:South Angle Farm Park\, United Kingdom
CATEGORIES:We are closed
END:VEVENT
BEGIN:VEVENT
DTSTART;TZID=UTC:20261227T100000
DTEND;TZID=UTC:20261228T095959
DTSTAMP:20260420T172409
CREATED:20260130T115408Z
LAST-MODIFIED:20260130T115408Z
UID:10005839-1798365600-1798451999@www.southanglefarmpark.co.uk
SUMMARY:Closed for Winter
DESCRIPTION:
URL:https://www.southanglefarmpark.co.uk/event/closed-for-winter-2/2026-12-27/
LOCATION:South Angle Farm Park\, United Kingdom
CATEGORIES:We are closed
END:VEVENT
END:VCALENDAR