BEGIN:VCALENDAR
VERSION:2.0
PRODID:-//Welcome to South Angle Farm Park - ECPv6.15.20//NONSGML v1.0//EN
CALSCALE:GREGORIAN
METHOD:PUBLISH
X-WR-CALNAME:Welcome to South Angle Farm Park
X-ORIGINAL-URL:https://www.southanglefarmpark.co.uk
X-WR-CALDESC:Events for Welcome to South Angle Farm Park
REFRESH-INTERVAL;VALUE=DURATION:PT1H
X-Robots-Tag:noindex
X-PUBLISHED-TTL:PT1H
BEGIN:VTIMEZONE
TZID:UTC
BEGIN:STANDARD
TZOFFSETFROM:+0000
TZOFFSETTO:+0000
TZNAME:UTC
DTSTART:20250101T000000
END:STANDARD
END:VTIMEZONE
BEGIN:VEVENT
DTSTART;TZID=UTC:20261207T100000
DTEND;TZID=UTC:20261208T095959
DTSTAMP:20260420T120813
CREATED:20250121T121018Z
LAST-MODIFIED:20260205T123934Z
UID:10001673-1796637600-1796723999@www.southanglefarmpark.co.uk
SUMMARY:Closed - Term Time Mondays
DESCRIPTION:
URL:https://www.southanglefarmpark.co.uk/event/closed-2-2/2026-12-07/
LOCATION:South Angle Farm Park\, United Kingdom
CATEGORIES:We are closed
END:VEVENT
BEGIN:VEVENT
DTSTART;TZID=UTC:20261208T100000
DTEND;TZID=UTC:20261209T095959
DTSTAMP:20260420T120813
CREATED:20260130T115408Z
LAST-MODIFIED:20260130T115408Z
UID:10005826-1796724000-1796810399@www.southanglefarmpark.co.uk
SUMMARY:Closed for Winter
DESCRIPTION:
URL:https://www.southanglefarmpark.co.uk/event/closed-for-winter-2/2026-12-08/
LOCATION:South Angle Farm Park\, United Kingdom
CATEGORIES:We are closed
END:VEVENT
BEGIN:VEVENT
DTSTART;TZID=UTC:20261209T100000
DTEND;TZID=UTC:20261210T095959
DTSTAMP:20260420T120813
CREATED:20260130T115408Z
LAST-MODIFIED:20260130T115408Z
UID:10005827-1796810400-1796896799@www.southanglefarmpark.co.uk
SUMMARY:Closed for Winter
DESCRIPTION:
URL:https://www.southanglefarmpark.co.uk/event/closed-for-winter-2/2026-12-09/
LOCATION:South Angle Farm Park\, United Kingdom
CATEGORIES:We are closed
END:VEVENT
BEGIN:VEVENT
DTSTART;TZID=UTC:20261210T100000
DTEND;TZID=UTC:20261211T095959
DTSTAMP:20260420T120813
CREATED:20260130T115408Z
LAST-MODIFIED:20260130T115408Z
UID:10005828-1796896800-1796983199@www.southanglefarmpark.co.uk
SUMMARY:Closed for Winter
DESCRIPTION:
URL:https://www.southanglefarmpark.co.uk/event/closed-for-winter-2/2026-12-10/
LOCATION:South Angle Farm Park\, United Kingdom
CATEGORIES:We are closed
END:VEVENT
BEGIN:VEVENT
DTSTART;TZID=UTC:20261211T100000
DTEND;TZID=UTC:20261212T095959
DTSTAMP:20260420T120813
CREATED:20260130T115408Z
LAST-MODIFIED:20260130T115408Z
UID:10005829-1796983200-1797069599@www.southanglefarmpark.co.uk
SUMMARY:Closed for Winter
DESCRIPTION:
URL:https://www.southanglefarmpark.co.uk/event/closed-for-winter-2/2026-12-11/
LOCATION:South Angle Farm Park\, United Kingdom
CATEGORIES:We are closed
END:VEVENT
END:VCALENDAR