BEGIN:VCALENDAR
VERSION:2.0
PRODID:-//Welcome to South Angle Farm Park - ECPv6.15.20//NONSGML v1.0//EN
CALSCALE:GREGORIAN
METHOD:PUBLISH
X-ORIGINAL-URL:https://www.southanglefarmpark.co.uk
X-WR-CALDESC:Events for Welcome to South Angle Farm Park
REFRESH-INTERVAL;VALUE=DURATION:PT1H
X-Robots-Tag:noindex
X-PUBLISHED-TTL:PT1H
BEGIN:VTIMEZONE
TZID:UTC
BEGIN:STANDARD
TZOFFSETFROM:+0000
TZOFFSETTO:+0000
TZNAME:UTC
DTSTART:20250101T000000
END:STANDARD
END:VTIMEZONE
BEGIN:VEVENT
DTSTART;TZID=UTC:20260830T100000
DTEND;TZID=UTC:20260831T095959
DTSTAMP:20260420T060938
CREATED:20260128T110806Z
LAST-MODIFIED:20260128T110806Z
UID:10005670-1788084000-1788170399@www.southanglefarmpark.co.uk
SUMMARY:Summer on the Farm
DESCRIPTION:It’s Summer! \n \nSouth Angle Farm Park is one of the best family days out in Cambridgeshire\, with loads of opportunities to meet and interact with a diverse array of animals from sheep to snakes! \nThere is no longer a requirement to pre-book\, but you may wish to in order to speed up your arrival. You can visit between 10 am – 5 pm. Under 2s are free. \nWhy not buy an Annual pass now and visit for a whole year as one of our ‘Farm Friends’ as many times as you like! Just buy your pass via our gift card page or from the shop when you arrive. \nIf South Angle Farm Park is forced to close\, your ticket will be refunded. \nTo view our prices click here.\nTo see how to find us click here.
URL:https://www.southanglefarmpark.co.uk/event/summer-on-the-farm-44/
LOCATION:South Angle Farm Park\, United Kingdom
CATEGORIES:We are open
END:VEVENT
BEGIN:VEVENT
DTSTART;TZID=UTC:20260831T100000
DTEND;TZID=UTC:20260901T095959
DTSTAMP:20260420T060938
CREATED:20260123T105755Z
LAST-MODIFIED:20260123T121029Z
UID:10005535-1788170400-1788256799@www.southanglefarmpark.co.uk
SUMMARY:Bank Holiday Monday
DESCRIPTION:Bank Holiday Monday \nIt’s Summer! \n \nSouth Angle Farm Park is one of the best family days out in Cambridgeshire\, with loads of opportunities to meet and interact with a diverse array of animals from sheep to snakes! \nThere is no longer a requirement to pre-book\, but you may wish to in order to speed up your arrival. You can visit between 10 am – 5 pm. Under 2s are free. \nWhy not buy an Annual pass now and visit for a whole year as one of our ‘Farm Friends’ as many times as you like! Just buy your pass via our gift card page or from the shop when you arrive. \nIf South Angle Farm Park is forced to close\, your ticket will be refunded. \nTo view our prices click here.\nTo see how to find us click here.
URL:https://www.southanglefarmpark.co.uk/event/bank-holiday-monday-7/
LOCATION:South Angle Farm Park\, United Kingdom
CATEGORIES:We are open
END:VEVENT
BEGIN:VEVENT
DTSTART;TZID=UTC:20260901T100000
DTEND;TZID=UTC:20260902T095959
DTSTAMP:20260420T060938
CREATED:20260128T115448Z
LAST-MODIFIED:20260128T115545Z
UID:10005685-1788256800-1788343199@www.southanglefarmpark.co.uk
SUMMARY:Autumn Weekdays
DESCRIPTION:It’s Autumn! \n \nSouth Angle Farm Park is one of the best family days out in Cambridgeshire\, with loads of opportunities to meet and interact with a diverse array of animals from sheep to snakes! \nThere is no longer a requirement to pre-book\, but you may wish to in order to speed up your arrival. You can visit between 10 am – 5 pm. Under 2s are free. \nWhy not buy an Annual pass now and visit for a whole year as one of our ‘Farm Friends’ as many times as you like! Just buy your pass via our gift card page or from the shop when you arrive. \nIf South Angle Farm Park is forced to close\, your ticket will be refunded. \nTo view our prices click here.\nTo see how to find us click here.
URL:https://www.southanglefarmpark.co.uk/event/autumn-weekends-15/
LOCATION:South Angle Farm Park\, United Kingdom
CATEGORIES:We are open
END:VEVENT
BEGIN:VEVENT
DTSTART;TZID=UTC:20260902T100000
DTEND;TZID=UTC:20260903T095959
DTSTAMP:20260420T060938
CREATED:20260128T120452Z
LAST-MODIFIED:20260128T120452Z
UID:10005686-1788343200-1788429599@www.southanglefarmpark.co.uk
SUMMARY:Autumn Weekdays
DESCRIPTION:It’s Autumn! \n \nSouth Angle Farm Park is one of the best family days out in Cambridgeshire\, with loads of opportunities to meet and interact with a diverse array of animals from sheep to snakes! \nThere is no longer a requirement to pre-book\, but you may wish to in order to speed up your arrival. You can visit between 10 am – 5 pm. Under 2s are free. \nWhy not buy an Annual pass now and visit for a whole year as one of our ‘Farm Friends’ as many times as you like! Just buy your pass via our gift card page or from the shop when you arrive. \nIf South Angle Farm Park is forced to close\, your ticket will be refunded. \nTo view our prices click here.\nTo see how to find us click here.
URL:https://www.southanglefarmpark.co.uk/event/autumn-weekdays/
LOCATION:South Angle Farm Park\, United Kingdom
CATEGORIES:We are open
END:VEVENT
BEGIN:VEVENT
DTSTART;TZID=UTC:20260903T100000
DTEND;TZID=UTC:20260904T095959
DTSTAMP:20260420T060938
CREATED:20260128T120623Z
LAST-MODIFIED:20260128T120623Z
UID:10005687-1788429600-1788515999@www.southanglefarmpark.co.uk
SUMMARY:Autumn Weekdays
DESCRIPTION:It’s Autumn! \n \nSouth Angle Farm Park is one of the best family days out in Cambridgeshire\, with loads of opportunities to meet and interact with a diverse array of animals from sheep to snakes! \nThere is no longer a requirement to pre-book\, but you may wish to in order to speed up your arrival. You can visit between 10 am – 5 pm. Under 2s are free. \nWhy not buy an Annual pass now and visit for a whole year as one of our ‘Farm Friends’ as many times as you like! Just buy your pass via our gift card page or from the shop when you arrive. \nIf South Angle Farm Park is forced to close\, your ticket will be refunded. \nTo view our prices click here.\nTo see how to find us click here.
URL:https://www.southanglefarmpark.co.uk/event/autumn-weekdays-2/
LOCATION:South Angle Farm Park\, United Kingdom
CATEGORIES:We are open
END:VEVENT
BEGIN:VEVENT
DTSTART;TZID=UTC:20260904T100000
DTEND;TZID=UTC:20260905T095959
DTSTAMP:20260420T060938
CREATED:20260128T120812Z
LAST-MODIFIED:20260128T120812Z
UID:10005688-1788516000-1788602399@www.southanglefarmpark.co.uk
SUMMARY:Autumn Weekdays
DESCRIPTION:It’s Autumn! \n \nSouth Angle Farm Park is one of the best family days out in Cambridgeshire\, with loads of opportunities to meet and interact with a diverse array of animals from sheep to snakes! \nThere is no longer a requirement to pre-book\, but you may wish to in order to speed up your arrival. You can visit between 10 am – 5 pm. Under 2s are free. \nWhy not buy an Annual pass now and visit for a whole year as one of our ‘Farm Friends’ as many times as you like! Just buy your pass via our gift card page or from the shop when you arrive. \nIf South Angle Farm Park is forced to close\, your ticket will be refunded. \nTo view our prices click here.\nTo see how to find us click here.
URL:https://www.southanglefarmpark.co.uk/event/autumn-weekdays-3/
LOCATION:South Angle Farm Park\, United Kingdom
CATEGORIES:We are open
END:VEVENT
BEGIN:VEVENT
DTSTART;TZID=UTC:20260905T100000
DTEND;TZID=UTC:20260906T095959
DTSTAMP:20260420T060938
CREATED:20260128T111933Z
LAST-MODIFIED:20260128T111933Z
UID:10005671-1788602400-1788688799@www.southanglefarmpark.co.uk
SUMMARY:Autumn Weekends
DESCRIPTION:It’s Autumn! \n \nSouth Angle Farm Park is one of the best family days out in Cambridgeshire\, with loads of opportunities to meet and interact with a diverse array of animals from sheep to snakes! \nThere is no longer a requirement to pre-book\, but you may wish to in order to speed up your arrival. You can visit between 10 am – 5 pm. Under 2s are free. \nWhy not buy an Annual pass now and visit for a whole year as one of our ‘Farm Friends’ as many times as you like! Just buy your pass via our gift card page or from the shop when you arrive. \nIf South Angle Farm Park is forced to close\, your ticket will be refunded. \nTo view our prices click here.\nTo see how to find us click here.
URL:https://www.southanglefarmpark.co.uk/event/autumn-weekends/
LOCATION:South Angle Farm Park\, United Kingdom
CATEGORIES:We are open
END:VEVENT
BEGIN:VEVENT
DTSTART;TZID=UTC:20260906T100000
DTEND;TZID=UTC:20260907T095959
DTSTAMP:20260420T060938
CREATED:20260128T112057Z
LAST-MODIFIED:20260128T112057Z
UID:10005672-1788688800-1788775199@www.southanglefarmpark.co.uk
SUMMARY:Autumn Weekends
DESCRIPTION:It’s Autumn! \n \nSouth Angle Farm Park is one of the best family days out in Cambridgeshire\, with loads of opportunities to meet and interact with a diverse array of animals from sheep to snakes! \nThere is no longer a requirement to pre-book\, but you may wish to in order to speed up your arrival. You can visit between 10 am – 5 pm. Under 2s are free. \nWhy not buy an Annual pass now and visit for a whole year as one of our ‘Farm Friends’ as many times as you like! Just buy your pass via our gift card page or from the shop when you arrive. \nIf South Angle Farm Park is forced to close\, your ticket will be refunded. \nTo view our prices click here.\nTo see how to find us click here.
URL:https://www.southanglefarmpark.co.uk/event/autumn-weekends-2/
LOCATION:South Angle Farm Park\, United Kingdom
CATEGORIES:We are open
END:VEVENT
END:VCALENDAR