BEGIN:VCALENDAR
VERSION:2.0
PRODID:-//Welcome to South Angle Farm Park - ECPv6.15.20//NONSGML v1.0//EN
CALSCALE:GREGORIAN
METHOD:PUBLISH
X-WR-CALNAME:Welcome to South Angle Farm Park
X-ORIGINAL-URL:https://www.southanglefarmpark.co.uk
X-WR-CALDESC:Events for Welcome to South Angle Farm Park
REFRESH-INTERVAL;VALUE=DURATION:PT1H
X-Robots-Tag:noindex
X-PUBLISHED-TTL:PT1H
BEGIN:VTIMEZONE
TZID:UTC
BEGIN:STANDARD
TZOFFSETFROM:+0000
TZOFFSETTO:+0000
TZNAME:UTC
DTSTART:20250101T000000
END:STANDARD
END:VTIMEZONE
BEGIN:VEVENT
DTSTART;TZID=UTC:20260823T100000
DTEND;TZID=UTC:20260824T095959
DTSTAMP:20260419T210356
CREATED:20260128T104800Z
LAST-MODIFIED:20260128T104800Z
UID:10005662-1787479200-1787565599@www.southanglefarmpark.co.uk
SUMMARY:Summer on the Farm
DESCRIPTION:It’s Summer! \n \nSouth Angle Farm Park is one of the best family days out in Cambridgeshire\, with loads of opportunities to meet and interact with a diverse array of animals from sheep to snakes! \nThere is no longer a requirement to pre-book\, but you may wish to in order to speed up your arrival. You can visit between 10 am – 5 pm. Under 2s are free. \nWhy not buy an Annual pass now and visit for a whole year as one of our ‘Farm Friends’ as many times as you like! Just buy your pass via our gift card page or from the shop when you arrive. \nIf South Angle Farm Park is forced to close\, your ticket will be refunded. \nTo view our prices click here.\nTo see how to find us click here.
URL:https://www.southanglefarmpark.co.uk/event/summer-on-the-farm-36/
LOCATION:South Angle Farm Park\, United Kingdom
CATEGORIES:We are open
END:VEVENT
BEGIN:VEVENT
DTSTART;TZID=UTC:20260824T100000
DTEND;TZID=UTC:20260825T095959
DTSTAMP:20260419T210356
CREATED:20260128T105126Z
LAST-MODIFIED:20260128T105126Z
UID:10005664-1787565600-1787651999@www.southanglefarmpark.co.uk
SUMMARY:Summer on the Farm
DESCRIPTION:It’s Summer! \n \nSouth Angle Farm Park is one of the best family days out in Cambridgeshire\, with loads of opportunities to meet and interact with a diverse array of animals from sheep to snakes! \nThere is no longer a requirement to pre-book\, but you may wish to in order to speed up your arrival. You can visit between 10 am – 5 pm. Under 2s are free. \nWhy not buy an Annual pass now and visit for a whole year as one of our ‘Farm Friends’ as many times as you like! Just buy your pass via our gift card page or from the shop when you arrive. \nIf South Angle Farm Park is forced to close\, your ticket will be refunded. \nTo view our prices click here.\nTo see how to find us click here.
URL:https://www.southanglefarmpark.co.uk/event/summer-on-the-farm-38/
LOCATION:South Angle Farm Park\, United Kingdom
CATEGORIES:We are open
END:VEVENT
BEGIN:VEVENT
DTSTART;TZID=UTC:20260825T100000
DTEND;TZID=UTC:20260826T095959
DTSTAMP:20260419T210356
CREATED:20260128T105254Z
LAST-MODIFIED:20260128T105254Z
UID:10005665-1787652000-1787738399@www.southanglefarmpark.co.uk
SUMMARY:Summer on the Farm
DESCRIPTION:It’s Summer! \n \nSouth Angle Farm Park is one of the best family days out in Cambridgeshire\, with loads of opportunities to meet and interact with a diverse array of animals from sheep to snakes! \nThere is no longer a requirement to pre-book\, but you may wish to in order to speed up your arrival. You can visit between 10 am – 5 pm. Under 2s are free. \nWhy not buy an Annual pass now and visit for a whole year as one of our ‘Farm Friends’ as many times as you like! Just buy your pass via our gift card page or from the shop when you arrive. \nIf South Angle Farm Park is forced to close\, your ticket will be refunded. \nTo view our prices click here.\nTo see how to find us click here.
URL:https://www.southanglefarmpark.co.uk/event/summer-on-the-farm-39/
LOCATION:South Angle Farm Park\, United Kingdom
CATEGORIES:We are open
END:VEVENT
BEGIN:VEVENT
DTSTART;TZID=UTC:20260826T100000
DTEND;TZID=UTC:20260827T095959
DTSTAMP:20260419T210356
CREATED:20260128T105540Z
LAST-MODIFIED:20260128T105540Z
UID:10005666-1787738400-1787824799@www.southanglefarmpark.co.uk
SUMMARY:Summer on the Farm
DESCRIPTION:It’s Summer! \n \nSouth Angle Farm Park is one of the best family days out in Cambridgeshire\, with loads of opportunities to meet and interact with a diverse array of animals from sheep to snakes! \nThere is no longer a requirement to pre-book\, but you may wish to in order to speed up your arrival. You can visit between 10 am – 5 pm. Under 2s are free. \nWhy not buy an Annual pass now and visit for a whole year as one of our ‘Farm Friends’ as many times as you like! Just buy your pass via our gift card page or from the shop when you arrive. \nIf South Angle Farm Park is forced to close\, your ticket will be refunded. \nTo view our prices click here.\nTo see how to find us click here.
URL:https://www.southanglefarmpark.co.uk/event/summer-on-the-farm-40/
LOCATION:South Angle Farm Park\, United Kingdom
CATEGORIES:We are open
END:VEVENT
BEGIN:VEVENT
DTSTART;TZID=UTC:20260827T100000
DTEND;TZID=UTC:20260828T095959
DTSTAMP:20260419T210356
CREATED:20260128T105745Z
LAST-MODIFIED:20260128T105745Z
UID:10005667-1787824800-1787911199@www.southanglefarmpark.co.uk
SUMMARY:Summer on the Farm
DESCRIPTION:It’s Summer! \n \nSouth Angle Farm Park is one of the best family days out in Cambridgeshire\, with loads of opportunities to meet and interact with a diverse array of animals from sheep to snakes! \nThere is no longer a requirement to pre-book\, but you may wish to in order to speed up your arrival. You can visit between 10 am – 5 pm. Under 2s are free. \nWhy not buy an Annual pass now and visit for a whole year as one of our ‘Farm Friends’ as many times as you like! Just buy your pass via our gift card page or from the shop when you arrive. \nIf South Angle Farm Park is forced to close\, your ticket will be refunded. \nTo view our prices click here.\nTo see how to find us click here.
URL:https://www.southanglefarmpark.co.uk/event/summer-on-the-farm-41/
LOCATION:South Angle Farm Park\, United Kingdom
CATEGORIES:We are open
END:VEVENT
BEGIN:VEVENT
DTSTART;TZID=UTC:20260828T100000
DTEND;TZID=UTC:20260829T095959
DTSTAMP:20260419T210356
CREATED:20260128T110148Z
LAST-MODIFIED:20260128T110148Z
UID:10005668-1787911200-1787997599@www.southanglefarmpark.co.uk
SUMMARY:Summer on the Farm
DESCRIPTION:It’s Summer! \n \nSouth Angle Farm Park is one of the best family days out in Cambridgeshire\, with loads of opportunities to meet and interact with a diverse array of animals from sheep to snakes! \nThere is no longer a requirement to pre-book\, but you may wish to in order to speed up your arrival. You can visit between 10 am – 5 pm. Under 2s are free. \nWhy not buy an Annual pass now and visit for a whole year as one of our ‘Farm Friends’ as many times as you like! Just buy your pass via our gift card page or from the shop when you arrive. \nIf South Angle Farm Park is forced to close\, your ticket will be refunded. \nTo view our prices click here.\nTo see how to find us click here.
URL:https://www.southanglefarmpark.co.uk/event/summer-on-the-farm-42/
LOCATION:South Angle Farm Park\, United Kingdom
CATEGORIES:We are open
END:VEVENT
BEGIN:VEVENT
DTSTART;TZID=UTC:20260829T100000
DTEND;TZID=UTC:20260830T095959
DTSTAMP:20260419T210356
CREATED:20260128T110400Z
LAST-MODIFIED:20260128T110400Z
UID:10005669-1787997600-1788083999@www.southanglefarmpark.co.uk
SUMMARY:Summer on the Farm
DESCRIPTION:It’s Summer! \n \nSouth Angle Farm Park is one of the best family days out in Cambridgeshire\, with loads of opportunities to meet and interact with a diverse array of animals from sheep to snakes! \nThere is no longer a requirement to pre-book\, but you may wish to in order to speed up your arrival. You can visit between 10 am – 5 pm. Under 2s are free. \nWhy not buy an Annual pass now and visit for a whole year as one of our ‘Farm Friends’ as many times as you like! Just buy your pass via our gift card page or from the shop when you arrive. \nIf South Angle Farm Park is forced to close\, your ticket will be refunded. \nTo view our prices click here.\nTo see how to find us click here.
URL:https://www.southanglefarmpark.co.uk/event/summer-on-the-farm-43/
LOCATION:South Angle Farm Park\, United Kingdom
CATEGORIES:We are open
END:VEVENT
BEGIN:VEVENT
DTSTART;TZID=UTC:20260830T100000
DTEND;TZID=UTC:20260831T095959
DTSTAMP:20260419T210356
CREATED:20260128T110806Z
LAST-MODIFIED:20260128T110806Z
UID:10005670-1788084000-1788170399@www.southanglefarmpark.co.uk
SUMMARY:Summer on the Farm
DESCRIPTION:It’s Summer! \n \nSouth Angle Farm Park is one of the best family days out in Cambridgeshire\, with loads of opportunities to meet and interact with a diverse array of animals from sheep to snakes! \nThere is no longer a requirement to pre-book\, but you may wish to in order to speed up your arrival. You can visit between 10 am – 5 pm. Under 2s are free. \nWhy not buy an Annual pass now and visit for a whole year as one of our ‘Farm Friends’ as many times as you like! Just buy your pass via our gift card page or from the shop when you arrive. \nIf South Angle Farm Park is forced to close\, your ticket will be refunded. \nTo view our prices click here.\nTo see how to find us click here.
URL:https://www.southanglefarmpark.co.uk/event/summer-on-the-farm-44/
LOCATION:South Angle Farm Park\, United Kingdom
CATEGORIES:We are open
END:VEVENT
END:VCALENDAR