BEGIN:VCALENDAR
VERSION:2.0
PRODID:-//Welcome to South Angle Farm Park - ECPv6.15.20//NONSGML v1.0//EN
CALSCALE:GREGORIAN
METHOD:PUBLISH
X-ORIGINAL-URL:https://www.southanglefarmpark.co.uk
X-WR-CALDESC:Events for Welcome to South Angle Farm Park
REFRESH-INTERVAL;VALUE=DURATION:PT1H
X-Robots-Tag:noindex
X-PUBLISHED-TTL:PT1H
BEGIN:VTIMEZONE
TZID:UTC
BEGIN:STANDARD
TZOFFSETFROM:+0000
TZOFFSETTO:+0000
TZNAME:UTC
DTSTART:20250101T000000
END:STANDARD
END:VTIMEZONE
BEGIN:VEVENT
DTSTART;TZID=UTC:20260809T100000
DTEND;TZID=UTC:20260810T095959
DTSTAMP:20260420T102754
CREATED:20260127T122132Z
LAST-MODIFIED:20260127T122132Z
UID:10005649-1786269600-1786355999@www.southanglefarmpark.co.uk
SUMMARY:Summer on the Farm
DESCRIPTION:It’s Summer! \n \nSouth Angle Farm Park is one of the best family days out in Cambridgeshire\, with loads of opportunities to meet and interact with a diverse array of animals from sheep to snakes! \nThere is no longer a requirement to pre-book\, but you may wish to in order to speed up your arrival. You can visit between 10 am – 5 pm. Under 2s are free. \nWhy not buy an Annual pass now and visit for a whole year as one of our ‘Farm Friends’ as many times as you like! Just buy your pass via our gift card page or from the shop when you arrive. \nIf South Angle Farm Park is forced to close\, your ticket will be refunded. \nTo view our prices click here.\nTo see how to find us click here.
URL:https://www.southanglefarmpark.co.uk/event/summer-on-the-farm-23/
LOCATION:South Angle Farm Park\, United Kingdom
CATEGORIES:We are open
END:VEVENT
BEGIN:VEVENT
DTSTART;TZID=UTC:20260810T100000
DTEND;TZID=UTC:20260811T095959
DTSTAMP:20260420T102754
CREATED:20260127T122459Z
LAST-MODIFIED:20260127T122459Z
UID:10005650-1786356000-1786442399@www.southanglefarmpark.co.uk
SUMMARY:Summer on the Farm
DESCRIPTION:It’s Summer! \n \nSouth Angle Farm Park is one of the best family days out in Cambridgeshire\, with loads of opportunities to meet and interact with a diverse array of animals from sheep to snakes! \nThere is no longer a requirement to pre-book\, but you may wish to in order to speed up your arrival. You can visit between 10 am – 5 pm. Under 2s are free. \nWhy not buy an Annual pass now and visit for a whole year as one of our ‘Farm Friends’ as many times as you like! Just buy your pass via our gift card page or from the shop when you arrive. \nIf South Angle Farm Park is forced to close\, your ticket will be refunded. \nTo view our prices click here.\nTo see how to find us click here.
URL:https://www.southanglefarmpark.co.uk/event/summer-on-the-farm-24/
LOCATION:South Angle Farm Park\, United Kingdom
CATEGORIES:We are open
END:VEVENT
BEGIN:VEVENT
DTSTART;TZID=UTC:20260811T100000
DTEND;TZID=UTC:20260812T095959
DTSTAMP:20260420T102754
CREATED:20260127T122634Z
LAST-MODIFIED:20260127T122634Z
UID:10005651-1786442400-1786528799@www.southanglefarmpark.co.uk
SUMMARY:Summer on the Farm
DESCRIPTION:It’s Summer! \n \nSouth Angle Farm Park is one of the best family days out in Cambridgeshire\, with loads of opportunities to meet and interact with a diverse array of animals from sheep to snakes! \nThere is no longer a requirement to pre-book\, but you may wish to in order to speed up your arrival. You can visit between 10 am – 5 pm. Under 2s are free. \nWhy not buy an Annual pass now and visit for a whole year as one of our ‘Farm Friends’ as many times as you like! Just buy your pass via our gift card page or from the shop when you arrive. \nIf South Angle Farm Park is forced to close\, your ticket will be refunded. \nTo view our prices click here.\nTo see how to find us click here.
URL:https://www.southanglefarmpark.co.uk/event/summer-on-the-farm-25/
LOCATION:South Angle Farm Park\, United Kingdom
CATEGORIES:We are open
END:VEVENT
BEGIN:VEVENT
DTSTART;TZID=UTC:20260812T100000
DTEND;TZID=UTC:20260813T095959
DTSTAMP:20260420T102754
CREATED:20260127T122812Z
LAST-MODIFIED:20260127T122812Z
UID:10005652-1786528800-1786615199@www.southanglefarmpark.co.uk
SUMMARY:Summer on the Farm
DESCRIPTION:It’s Summer! \n \nSouth Angle Farm Park is one of the best family days out in Cambridgeshire\, with loads of opportunities to meet and interact with a diverse array of animals from sheep to snakes! \nThere is no longer a requirement to pre-book\, but you may wish to in order to speed up your arrival. You can visit between 10 am – 5 pm. Under 2s are free. \nWhy not buy an Annual pass now and visit for a whole year as one of our ‘Farm Friends’ as many times as you like! Just buy your pass via our gift card page or from the shop when you arrive. \nIf South Angle Farm Park is forced to close\, your ticket will be refunded. \nTo view our prices click here.\nTo see how to find us click here.
URL:https://www.southanglefarmpark.co.uk/event/summer-on-the-farm-26/
LOCATION:South Angle Farm Park\, United Kingdom
CATEGORIES:We are open
END:VEVENT
BEGIN:VEVENT
DTSTART;TZID=UTC:20260813T100000
DTEND;TZID=UTC:20260814T095959
DTSTAMP:20260420T102754
CREATED:20260127T122927Z
LAST-MODIFIED:20260127T122927Z
UID:10005653-1786615200-1786701599@www.southanglefarmpark.co.uk
SUMMARY:Summer on the Farm
DESCRIPTION:It’s Summer! \n \nSouth Angle Farm Park is one of the best family days out in Cambridgeshire\, with loads of opportunities to meet and interact with a diverse array of animals from sheep to snakes! \nThere is no longer a requirement to pre-book\, but you may wish to in order to speed up your arrival. You can visit between 10 am – 5 pm. Under 2s are free. \nWhy not buy an Annual pass now and visit for a whole year as one of our ‘Farm Friends’ as many times as you like! Just buy your pass via our gift card page or from the shop when you arrive. \nIf South Angle Farm Park is forced to close\, your ticket will be refunded. \nTo view our prices click here.\nTo see how to find us click here.
URL:https://www.southanglefarmpark.co.uk/event/summer-on-the-farm-27/
LOCATION:South Angle Farm Park\, United Kingdom
CATEGORIES:We are open
END:VEVENT
BEGIN:VEVENT
DTSTART;TZID=UTC:20260814T100000
DTEND;TZID=UTC:20260815T095959
DTSTAMP:20260420T102754
CREATED:20260127T123048Z
LAST-MODIFIED:20260127T123048Z
UID:10005654-1786701600-1786787999@www.southanglefarmpark.co.uk
SUMMARY:Summer on the Farm
DESCRIPTION:It’s Summer! \n \nSouth Angle Farm Park is one of the best family days out in Cambridgeshire\, with loads of opportunities to meet and interact with a diverse array of animals from sheep to snakes! \nThere is no longer a requirement to pre-book\, but you may wish to in order to speed up your arrival. You can visit between 10 am – 5 pm. Under 2s are free. \nWhy not buy an Annual pass now and visit for a whole year as one of our ‘Farm Friends’ as many times as you like! Just buy your pass via our gift card page or from the shop when you arrive. \nIf South Angle Farm Park is forced to close\, your ticket will be refunded. \nTo view our prices click here.\nTo see how to find us click here.
URL:https://www.southanglefarmpark.co.uk/event/summer-on-the-farm-28/
LOCATION:South Angle Farm Park\, United Kingdom
CATEGORIES:We are open
END:VEVENT
BEGIN:VEVENT
DTSTART;TZID=UTC:20260815T100000
DTEND;TZID=UTC:20260816T095959
DTSTAMP:20260420T102754
CREATED:20260127T123226Z
LAST-MODIFIED:20260127T123226Z
UID:10005655-1786788000-1786874399@www.southanglefarmpark.co.uk
SUMMARY:Summer on the Farm
DESCRIPTION:It’s Summer! \n \nSouth Angle Farm Park is one of the best family days out in Cambridgeshire\, with loads of opportunities to meet and interact with a diverse array of animals from sheep to snakes! \nThere is no longer a requirement to pre-book\, but you may wish to in order to speed up your arrival. You can visit between 10 am – 5 pm. Under 2s are free. \nWhy not buy an Annual pass now and visit for a whole year as one of our ‘Farm Friends’ as many times as you like! Just buy your pass via our gift card page or from the shop when you arrive. \nIf South Angle Farm Park is forced to close\, your ticket will be refunded. \nTo view our prices click here.\nTo see how to find us click here.
URL:https://www.southanglefarmpark.co.uk/event/summer-on-the-farm-29/
LOCATION:South Angle Farm Park\, United Kingdom
CATEGORIES:We are open
END:VEVENT
BEGIN:VEVENT
DTSTART;TZID=UTC:20260816T100000
DTEND;TZID=UTC:20260817T095959
DTSTAMP:20260420T102754
CREATED:20260127T123434Z
LAST-MODIFIED:20260127T123434Z
UID:10005656-1786874400-1786960799@www.southanglefarmpark.co.uk
SUMMARY:Summer on the Farm
DESCRIPTION:It’s Summer! \n \nSouth Angle Farm Park is one of the best family days out in Cambridgeshire\, with loads of opportunities to meet and interact with a diverse array of animals from sheep to snakes! \nThere is no longer a requirement to pre-book\, but you may wish to in order to speed up your arrival. You can visit between 10 am – 5 pm. Under 2s are free. \nWhy not buy an Annual pass now and visit for a whole year as one of our ‘Farm Friends’ as many times as you like! Just buy your pass via our gift card page or from the shop when you arrive. \nIf South Angle Farm Park is forced to close\, your ticket will be refunded. \nTo view our prices click here.\nTo see how to find us click here.
URL:https://www.southanglefarmpark.co.uk/event/summer-on-the-farm-30/
LOCATION:South Angle Farm Park\, United Kingdom
CATEGORIES:We are open
END:VEVENT
END:VCALENDAR