BEGIN:VCALENDAR
VERSION:2.0
PRODID:-//Welcome to South Angle Farm Park - ECPv6.15.20//NONSGML v1.0//EN
CALSCALE:GREGORIAN
METHOD:PUBLISH
X-WR-CALNAME:Welcome to South Angle Farm Park
X-ORIGINAL-URL:https://www.southanglefarmpark.co.uk
X-WR-CALDESC:Events for Welcome to South Angle Farm Park
REFRESH-INTERVAL;VALUE=DURATION:PT1H
X-Robots-Tag:noindex
X-PUBLISHED-TTL:PT1H
BEGIN:VTIMEZONE
TZID:UTC
BEGIN:STANDARD
TZOFFSETFROM:+0000
TZOFFSETTO:+0000
TZNAME:UTC
DTSTART:20250101T000000
END:STANDARD
END:VTIMEZONE
BEGIN:VEVENT
DTSTART;TZID=UTC:20261008T100000
DTEND;TZID=UTC:20261009T095959
DTSTAMP:20260420T012901
CREATED:20260130T103246Z
LAST-MODIFIED:20260130T103246Z
UID:10005715-1791453600-1791539999@www.southanglefarmpark.co.uk
SUMMARY:Autumn Weekdays
DESCRIPTION:It’s Autumn! \n \nSouth Angle Farm Park is one of the best family days out in Cambridgeshire\, with loads of opportunities to meet and interact with a diverse array of animals from sheep to snakes! \nThere is no longer a requirement to pre-book\, but you may wish to in order to speed up your arrival. You can visit between 10 am – 5 pm. Under 2s are free. \nWhy not buy an Annual pass now and visit for a whole year as one of our ‘Farm Friends’ as many times as you like! Just buy your pass via our gift card page or from the shop when you arrive. \nIf South Angle Farm Park is forced to close\, your ticket will be refunded. \nTo view our prices click here.\nTo see how to find us click here.
URL:https://www.southanglefarmpark.co.uk/event/autumn-weekdays-22/
LOCATION:South Angle Farm Park\, United Kingdom
CATEGORIES:We are open
END:VEVENT
BEGIN:VEVENT
DTSTART;TZID=UTC:20261009T100000
DTEND;TZID=UTC:20261010T095959
DTSTAMP:20260420T012901
CREATED:20260130T103430Z
LAST-MODIFIED:20260130T103430Z
UID:10005716-1791540000-1791626399@www.southanglefarmpark.co.uk
SUMMARY:Autumn Weekdays
DESCRIPTION:It’s Autumn! \n \nSouth Angle Farm Park is one of the best family days out in Cambridgeshire\, with loads of opportunities to meet and interact with a diverse array of animals from sheep to snakes! \nThere is no longer a requirement to pre-book\, but you may wish to in order to speed up your arrival. You can visit between 10 am – 5 pm. Under 2s are free. \nWhy not buy an Annual pass now and visit for a whole year as one of our ‘Farm Friends’ as many times as you like! Just buy your pass via our gift card page or from the shop when you arrive. \nIf South Angle Farm Park is forced to close\, your ticket will be refunded. \nTo view our prices click here.\nTo see how to find us click here.
URL:https://www.southanglefarmpark.co.uk/event/autumn-weekdays-23/
LOCATION:South Angle Farm Park\, United Kingdom
CATEGORIES:We are open
END:VEVENT
BEGIN:VEVENT
DTSTART;TZID=UTC:20261010T100000
DTEND;TZID=UTC:20261011T095959
DTSTAMP:20260420T012901
CREATED:20260128T113652Z
LAST-MODIFIED:20260128T113652Z
UID:10005681-1791626400-1791712799@www.southanglefarmpark.co.uk
SUMMARY:Autumn Weekends
DESCRIPTION:It’s Autumn! \n \nSouth Angle Farm Park is one of the best family days out in Cambridgeshire\, with loads of opportunities to meet and interact with a diverse array of animals from sheep to snakes! \nThere is no longer a requirement to pre-book\, but you may wish to in order to speed up your arrival. You can visit between 10 am – 5 pm. Under 2s are free. \nWhy not buy an Annual pass now and visit for a whole year as one of our ‘Farm Friends’ as many times as you like! Just buy your pass via our gift card page or from the shop when you arrive. \nIf South Angle Farm Park is forced to close\, your ticket will be refunded. \nTo view our prices click here.\nTo see how to find us click here.
URL:https://www.southanglefarmpark.co.uk/event/autumn-weekends-11/
LOCATION:South Angle Farm Park\, United Kingdom
CATEGORIES:We are open
END:VEVENT
BEGIN:VEVENT
DTSTART;TZID=UTC:20261011T100000
DTEND;TZID=UTC:20261012T095959
DTSTAMP:20260420T012901
CREATED:20260128T113902Z
LAST-MODIFIED:20260128T113902Z
UID:10005682-1791712800-1791799199@www.southanglefarmpark.co.uk
SUMMARY:Autumn Weekends
DESCRIPTION:It’s Autumn! \n \nSouth Angle Farm Park is one of the best family days out in Cambridgeshire\, with loads of opportunities to meet and interact with a diverse array of animals from sheep to snakes! \nThere is no longer a requirement to pre-book\, but you may wish to in order to speed up your arrival. You can visit between 10 am – 5 pm. Under 2s are free. \nWhy not buy an Annual pass now and visit for a whole year as one of our ‘Farm Friends’ as many times as you like! Just buy your pass via our gift card page or from the shop when you arrive. \nIf South Angle Farm Park is forced to close\, your ticket will be refunded. \nTo view our prices click here.\nTo see how to find us click here.
URL:https://www.southanglefarmpark.co.uk/event/autumn-weekends-12/
LOCATION:South Angle Farm Park\, United Kingdom
CATEGORIES:We are open
END:VEVENT
BEGIN:VEVENT
DTSTART;TZID=UTC:20261012T100000
DTEND;TZID=UTC:20261013T095959
DTSTAMP:20260420T012901
CREATED:20250121T121018Z
LAST-MODIFIED:20260205T123934Z
UID:10001665-1791799200-1791885599@www.southanglefarmpark.co.uk
SUMMARY:Closed - Term Time Mondays
DESCRIPTION:
URL:https://www.southanglefarmpark.co.uk/event/closed-2-2/2026-10-12/
LOCATION:South Angle Farm Park\, United Kingdom
CATEGORIES:We are closed
END:VEVENT
BEGIN:VEVENT
DTSTART;TZID=UTC:20261013T100000
DTEND;TZID=UTC:20261014T095959
DTSTAMP:20260420T012901
CREATED:20260130T103810Z
LAST-MODIFIED:20260130T103810Z
UID:10005717-1791885600-1791971999@www.southanglefarmpark.co.uk
SUMMARY:Autumn Weekdays
DESCRIPTION:It’s Autumn! \n \nSouth Angle Farm Park is one of the best family days out in Cambridgeshire\, with loads of opportunities to meet and interact with a diverse array of animals from sheep to snakes! \nThere is no longer a requirement to pre-book\, but you may wish to in order to speed up your arrival. You can visit between 10 am – 5 pm. Under 2s are free. \nWhy not buy an Annual pass now and visit for a whole year as one of our ‘Farm Friends’ as many times as you like! Just buy your pass via our gift card page or from the shop when you arrive. \nIf South Angle Farm Park is forced to close\, your ticket will be refunded. \nTo view our prices click here.\nTo see how to find us click here.
URL:https://www.southanglefarmpark.co.uk/event/autumn-weekdays-24/
LOCATION:South Angle Farm Park\, United Kingdom
CATEGORIES:We are open
END:VEVENT
BEGIN:VEVENT
DTSTART;TZID=UTC:20261014T100000
DTEND;TZID=UTC:20261015T095959
DTSTAMP:20260420T012901
CREATED:20260130T104136Z
LAST-MODIFIED:20260130T104136Z
UID:10005718-1791972000-1792058399@www.southanglefarmpark.co.uk
SUMMARY:Autumn Weekdays
DESCRIPTION:It’s Autumn! \n \nSouth Angle Farm Park is one of the best family days out in Cambridgeshire\, with loads of opportunities to meet and interact with a diverse array of animals from sheep to snakes! \nThere is no longer a requirement to pre-book\, but you may wish to in order to speed up your arrival. You can visit between 10 am – 5 pm. Under 2s are free. \nWhy not buy an Annual pass now and visit for a whole year as one of our ‘Farm Friends’ as many times as you like! Just buy your pass via our gift card page or from the shop when you arrive. \nIf South Angle Farm Park is forced to close\, your ticket will be refunded. \nTo view our prices click here.\nTo see how to find us click here.
URL:https://www.southanglefarmpark.co.uk/event/autumn-weekdays-25/
LOCATION:South Angle Farm Park\, United Kingdom
CATEGORIES:We are open
END:VEVENT
BEGIN:VEVENT
DTSTART;TZID=UTC:20261015T100000
DTEND;TZID=UTC:20261016T095959
DTSTAMP:20260420T012901
CREATED:20260130T104313Z
LAST-MODIFIED:20260130T104313Z
UID:10005719-1792058400-1792144799@www.southanglefarmpark.co.uk
SUMMARY:Autumn Weekdays
DESCRIPTION:It’s Autumn! \n \nSouth Angle Farm Park is one of the best family days out in Cambridgeshire\, with loads of opportunities to meet and interact with a diverse array of animals from sheep to snakes! \nThere is no longer a requirement to pre-book\, but you may wish to in order to speed up your arrival. You can visit between 10 am – 5 pm. Under 2s are free. \nWhy not buy an Annual pass now and visit for a whole year as one of our ‘Farm Friends’ as many times as you like! Just buy your pass via our gift card page or from the shop when you arrive. \nIf South Angle Farm Park is forced to close\, your ticket will be refunded. \nTo view our prices click here.\nTo see how to find us click here.
URL:https://www.southanglefarmpark.co.uk/event/autumn-weekdays-26/
LOCATION:South Angle Farm Park\, United Kingdom
CATEGORIES:We are open
END:VEVENT
BEGIN:VEVENT
DTSTART;TZID=UTC:20261016T100000
DTEND;TZID=UTC:20261017T095959
DTSTAMP:20260420T012901
CREATED:20260130T104511Z
LAST-MODIFIED:20260130T104511Z
UID:10005720-1792144800-1792231199@www.southanglefarmpark.co.uk
SUMMARY:Autumn Weekdays
DESCRIPTION:It’s Autumn! \n \nSouth Angle Farm Park is one of the best family days out in Cambridgeshire\, with loads of opportunities to meet and interact with a diverse array of animals from sheep to snakes! \nThere is no longer a requirement to pre-book\, but you may wish to in order to speed up your arrival. You can visit between 10 am – 5 pm. Under 2s are free. \nWhy not buy an Annual pass now and visit for a whole year as one of our ‘Farm Friends’ as many times as you like! Just buy your pass via our gift card page or from the shop when you arrive. \nIf South Angle Farm Park is forced to close\, your ticket will be refunded. \nTo view our prices click here.\nTo see how to find us click here.
URL:https://www.southanglefarmpark.co.uk/event/autumn-weekdays-27/
LOCATION:South Angle Farm Park\, United Kingdom
CATEGORIES:We are open
END:VEVENT
BEGIN:VEVENT
DTSTART;TZID=UTC:20261017T100000
DTEND;TZID=UTC:20261018T095959
DTSTAMP:20260420T012901
CREATED:20260128T114045Z
LAST-MODIFIED:20260128T114045Z
UID:10005683-1792231200-1792317599@www.southanglefarmpark.co.uk
SUMMARY:Autumn Weekends
DESCRIPTION:It’s Autumn! \n \nSouth Angle Farm Park is one of the best family days out in Cambridgeshire\, with loads of opportunities to meet and interact with a diverse array of animals from sheep to snakes! \nThere is no longer a requirement to pre-book\, but you may wish to in order to speed up your arrival. You can visit between 10 am – 5 pm. Under 2s are free. \nWhy not buy an Annual pass now and visit for a whole year as one of our ‘Farm Friends’ as many times as you like! Just buy your pass via our gift card page or from the shop when you arrive. \nIf South Angle Farm Park is forced to close\, your ticket will be refunded. \nTo view our prices click here.\nTo see how to find us click here.
URL:https://www.southanglefarmpark.co.uk/event/autumn-weekends-13/
LOCATION:South Angle Farm Park\, United Kingdom
CATEGORIES:We are open
END:VEVENT
BEGIN:VEVENT
DTSTART;TZID=UTC:20261018T100000
DTEND;TZID=UTC:20261019T095959
DTSTAMP:20260420T012901
CREATED:20260128T114222Z
LAST-MODIFIED:20260128T114222Z
UID:10005684-1792317600-1792403999@www.southanglefarmpark.co.uk
SUMMARY:Autumn Weekends
DESCRIPTION:It’s Autumn! \n \nSouth Angle Farm Park is one of the best family days out in Cambridgeshire\, with loads of opportunities to meet and interact with a diverse array of animals from sheep to snakes! \nThere is no longer a requirement to pre-book\, but you may wish to in order to speed up your arrival. You can visit between 10 am – 5 pm. Under 2s are free. \nWhy not buy an Annual pass now and visit for a whole year as one of our ‘Farm Friends’ as many times as you like! Just buy your pass via our gift card page or from the shop when you arrive. \nIf South Angle Farm Park is forced to close\, your ticket will be refunded. \nTo view our prices click here.\nTo see how to find us click here.
URL:https://www.southanglefarmpark.co.uk/event/autumn-weekends-14/
LOCATION:South Angle Farm Park\, United Kingdom
CATEGORIES:We are open
END:VEVENT
BEGIN:VEVENT
DTSTART;TZID=UTC:20261019T100000
DTEND;TZID=UTC:20261020T095959
DTSTAMP:20260420T012901
CREATED:20250121T121018Z
LAST-MODIFIED:20260205T123934Z
UID:10001666-1792404000-1792490399@www.southanglefarmpark.co.uk
SUMMARY:Closed - Term Time Mondays
DESCRIPTION:
URL:https://www.southanglefarmpark.co.uk/event/closed-2-2/2026-10-19/
LOCATION:South Angle Farm Park\, United Kingdom
CATEGORIES:We are closed
END:VEVENT
BEGIN:VEVENT
DTSTART;TZID=UTC:20261020T100000
DTEND;TZID=UTC:20261021T095959
DTSTAMP:20260420T012901
CREATED:20260130T104835Z
LAST-MODIFIED:20260130T104835Z
UID:10005721-1792490400-1792576799@www.southanglefarmpark.co.uk
SUMMARY:Autumn Weekdays
DESCRIPTION:It’s Autumn! \n \nSouth Angle Farm Park is one of the best family days out in Cambridgeshire\, with loads of opportunities to meet and interact with a diverse array of animals from sheep to snakes! \nThere is no longer a requirement to pre-book\, but you may wish to in order to speed up your arrival. You can visit between 10 am – 5 pm. Under 2s are free. \nWhy not buy an Annual pass now and visit for a whole year as one of our ‘Farm Friends’ as many times as you like! Just buy your pass via our gift card page or from the shop when you arrive. \nIf South Angle Farm Park is forced to close\, your ticket will be refunded. \nTo view our prices click here.\nTo see how to find us click here.
URL:https://www.southanglefarmpark.co.uk/event/autumn-weekdays-28/
LOCATION:South Angle Farm Park\, United Kingdom
CATEGORIES:We are open
END:VEVENT
BEGIN:VEVENT
DTSTART;TZID=UTC:20261021T100000
DTEND;TZID=UTC:20261022T095959
DTSTAMP:20260420T012901
CREATED:20260130T105038Z
LAST-MODIFIED:20260130T105038Z
UID:10005722-1792576800-1792663199@www.southanglefarmpark.co.uk
SUMMARY:Autumn Weekdays
DESCRIPTION:It’s Autumn! \n \nSouth Angle Farm Park is one of the best family days out in Cambridgeshire\, with loads of opportunities to meet and interact with a diverse array of animals from sheep to snakes! \nThere is no longer a requirement to pre-book\, but you may wish to in order to speed up your arrival. You can visit between 10 am – 5 pm. Under 2s are free. \nWhy not buy an Annual pass now and visit for a whole year as one of our ‘Farm Friends’ as many times as you like! Just buy your pass via our gift card page or from the shop when you arrive. \nIf South Angle Farm Park is forced to close\, your ticket will be refunded. \nTo view our prices click here.\nTo see how to find us click here.
URL:https://www.southanglefarmpark.co.uk/event/autumn-weekdays-29/
LOCATION:South Angle Farm Park\, United Kingdom
CATEGORIES:We are open
END:VEVENT
BEGIN:VEVENT
DTSTART;TZID=UTC:20261022T100000
DTEND;TZID=UTC:20261023T095959
DTSTAMP:20260420T012901
CREATED:20260130T105225Z
LAST-MODIFIED:20260130T105225Z
UID:10005723-1792663200-1792749599@www.southanglefarmpark.co.uk
SUMMARY:Autumn Weekdays
DESCRIPTION:It’s Autumn! \n \nSouth Angle Farm Park is one of the best family days out in Cambridgeshire\, with loads of opportunities to meet and interact with a diverse array of animals from sheep to snakes! \nThere is no longer a requirement to pre-book\, but you may wish to in order to speed up your arrival. You can visit between 10 am – 5 pm. Under 2s are free. \nWhy not buy an Annual pass now and visit for a whole year as one of our ‘Farm Friends’ as many times as you like! Just buy your pass via our gift card page or from the shop when you arrive. \nIf South Angle Farm Park is forced to close\, your ticket will be refunded. \nTo view our prices click here.\nTo see how to find us click here.
URL:https://www.southanglefarmpark.co.uk/event/autumn-weekdays-30/
LOCATION:South Angle Farm Park\, United Kingdom
CATEGORIES:We are open
END:VEVENT
BEGIN:VEVENT
DTSTART;TZID=UTC:20261023T100000
DTEND;TZID=UTC:20261024T095959
DTSTAMP:20260420T012901
CREATED:20260130T105403Z
LAST-MODIFIED:20260130T105403Z
UID:10005724-1792749600-1792835999@www.southanglefarmpark.co.uk
SUMMARY:Autumn Weekdays
DESCRIPTION:It’s Autumn! \n \nSouth Angle Farm Park is one of the best family days out in Cambridgeshire\, with loads of opportunities to meet and interact with a diverse array of animals from sheep to snakes! \nThere is no longer a requirement to pre-book\, but you may wish to in order to speed up your arrival. You can visit between 10 am – 5 pm. Under 2s are free. \nWhy not buy an Annual pass now and visit for a whole year as one of our ‘Farm Friends’ as many times as you like! Just buy your pass via our gift card page or from the shop when you arrive. \nIf South Angle Farm Park is forced to close\, your ticket will be refunded. \nTo view our prices click here.\nTo see how to find us click here.
URL:https://www.southanglefarmpark.co.uk/event/autumn-weekdays-31/
LOCATION:South Angle Farm Park\, United Kingdom
CATEGORIES:We are open
END:VEVENT
BEGIN:VEVENT
DTSTART;TZID=UTC:20261024T100000
DTEND;TZID=UTC:20261025T095959
DTSTAMP:20260420T012901
CREATED:20260130T111319Z
LAST-MODIFIED:20260130T111319Z
UID:10005733-1792836000-1792922399@www.southanglefarmpark.co.uk
SUMMARY:Halloween
DESCRIPTION:It’s Halloween! \n \nSouth Angle Farm Park is one of the best family days out in Cambridgeshire\, with loads of opportunities to meet and interact with a diverse array of animals from sheep to snakes! \nThere is no longer a requirement to pre-book\, but you may wish to in order to speed up your arrival. You can visit between 10 am – 5 pm. Under 2s are free. \nWhy not buy an Annual pass now and visit for a whole year as one of our ‘Farm Friends’ as many times as you like! Just buy your pass via our gift card page or from the shop when you arrive. \nIf South Angle Farm Park is forced to close\, your ticket will be refunded. \nTo view our prices click here.\nTo see how to find us click here.
URL:https://www.southanglefarmpark.co.uk/event/halloween/
LOCATION:South Angle Farm Park\, United Kingdom
CATEGORIES:We are open
END:VEVENT
BEGIN:VEVENT
DTSTART;TZID=UTC:20261025T100000
DTEND;TZID=UTC:20261026T095959
DTSTAMP:20260420T012901
CREATED:20260130T111717Z
LAST-MODIFIED:20260130T111717Z
UID:10005734-1792922400-1793008799@www.southanglefarmpark.co.uk
SUMMARY:Halloween
DESCRIPTION:It’s Halloween! \n \nSouth Angle Farm Park is one of the best family days out in Cambridgeshire\, with loads of opportunities to meet and interact with a diverse array of animals from sheep to snakes! \nThere is no longer a requirement to pre-book\, but you may wish to in order to speed up your arrival. You can visit between 10 am – 5 pm. Under 2s are free. \nWhy not buy an Annual pass now and visit for a whole year as one of our ‘Farm Friends’ as many times as you like! Just buy your pass via our gift card page or from the shop when you arrive. \nIf South Angle Farm Park is forced to close\, your ticket will be refunded. \nTo view our prices click here.\nTo see how to find us click here.
URL:https://www.southanglefarmpark.co.uk/event/halloween-2/
LOCATION:South Angle Farm Park\, United Kingdom
CATEGORIES:We are open
END:VEVENT
BEGIN:VEVENT
DTSTART;TZID=UTC:20261026T100000
DTEND;TZID=UTC:20261027T095959
DTSTAMP:20260420T012901
CREATED:20260130T112114Z
LAST-MODIFIED:20260130T112114Z
UID:10005735-1793008800-1793095199@www.southanglefarmpark.co.uk
SUMMARY:Halloween
DESCRIPTION:It’s Halloween! \n \nSouth Angle Farm Park is one of the best family days out in Cambridgeshire\, with loads of opportunities to meet and interact with a diverse array of animals from sheep to snakes! \nThere is no longer a requirement to pre-book\, but you may wish to in order to speed up your arrival. You can visit between 10 am – 5 pm. Under 2s are free. \nWhy not buy an Annual pass now and visit for a whole year as one of our ‘Farm Friends’ as many times as you like! Just buy your pass via our gift card page or from the shop when you arrive. \nIf South Angle Farm Park is forced to close\, your ticket will be refunded. \nTo view our prices click here.\nTo see how to find us click here.
URL:https://www.southanglefarmpark.co.uk/event/halloween-3/
LOCATION:South Angle Farm Park\, United Kingdom
CATEGORIES:We are open
END:VEVENT
BEGIN:VEVENT
DTSTART;TZID=UTC:20261027T100000
DTEND;TZID=UTC:20261028T095959
DTSTAMP:20260420T012901
CREATED:20260130T112258Z
LAST-MODIFIED:20260130T112258Z
UID:10005736-1793095200-1793181599@www.southanglefarmpark.co.uk
SUMMARY:Halloween
DESCRIPTION:It’s Halloween! \n \nSouth Angle Farm Park is one of the best family days out in Cambridgeshire\, with loads of opportunities to meet and interact with a diverse array of animals from sheep to snakes! \nThere is no longer a requirement to pre-book\, but you may wish to in order to speed up your arrival. You can visit between 10 am – 5 pm. Under 2s are free. \nWhy not buy an Annual pass now and visit for a whole year as one of our ‘Farm Friends’ as many times as you like! Just buy your pass via our gift card page or from the shop when you arrive. \nIf South Angle Farm Park is forced to close\, your ticket will be refunded. \nTo view our prices click here.\nTo see how to find us click here.
URL:https://www.southanglefarmpark.co.uk/event/halloween-4/
LOCATION:South Angle Farm Park\, United Kingdom
CATEGORIES:We are open
END:VEVENT
BEGIN:VEVENT
DTSTART;TZID=UTC:20261028T100000
DTEND;TZID=UTC:20261029T095959
DTSTAMP:20260420T012901
CREATED:20260130T112438Z
LAST-MODIFIED:20260130T112438Z
UID:10005737-1793181600-1793267999@www.southanglefarmpark.co.uk
SUMMARY:Halloween
DESCRIPTION:It’s Halloween! \n \nSouth Angle Farm Park is one of the best family days out in Cambridgeshire\, with loads of opportunities to meet and interact with a diverse array of animals from sheep to snakes! \nThere is no longer a requirement to pre-book\, but you may wish to in order to speed up your arrival. You can visit between 10 am – 5 pm. Under 2s are free. \nWhy not buy an Annual pass now and visit for a whole year as one of our ‘Farm Friends’ as many times as you like! Just buy your pass via our gift card page or from the shop when you arrive. \nIf South Angle Farm Park is forced to close\, your ticket will be refunded. \nTo view our prices click here.\nTo see how to find us click here.
URL:https://www.southanglefarmpark.co.uk/event/halloween-5/
LOCATION:South Angle Farm Park\, United Kingdom
CATEGORIES:We are open
END:VEVENT
BEGIN:VEVENT
DTSTART;TZID=UTC:20261029T100000
DTEND;TZID=UTC:20261030T095959
DTSTAMP:20260420T012901
CREATED:20260130T112632Z
LAST-MODIFIED:20260130T112632Z
UID:10005738-1793268000-1793354399@www.southanglefarmpark.co.uk
SUMMARY:Halloween
DESCRIPTION:It’s Halloween! \n \nSouth Angle Farm Park is one of the best family days out in Cambridgeshire\, with loads of opportunities to meet and interact with a diverse array of animals from sheep to snakes! \nThere is no longer a requirement to pre-book\, but you may wish to in order to speed up your arrival. You can visit between 10 am – 5 pm. Under 2s are free. \nWhy not buy an Annual pass now and visit for a whole year as one of our ‘Farm Friends’ as many times as you like! Just buy your pass via our gift card page or from the shop when you arrive. \nIf South Angle Farm Park is forced to close\, your ticket will be refunded. \nTo view our prices click here.\nTo see how to find us click here.
URL:https://www.southanglefarmpark.co.uk/event/halloween-6/
LOCATION:South Angle Farm Park\, United Kingdom
CATEGORIES:We are open
END:VEVENT
BEGIN:VEVENT
DTSTART;TZID=UTC:20261030T100000
DTEND;TZID=UTC:20261031T095959
DTSTAMP:20260420T012901
CREATED:20260130T112755Z
LAST-MODIFIED:20260130T112755Z
UID:10005739-1793354400-1793440799@www.southanglefarmpark.co.uk
SUMMARY:Halloween
DESCRIPTION:It’s Halloween! \n \nSouth Angle Farm Park is one of the best family days out in Cambridgeshire\, with loads of opportunities to meet and interact with a diverse array of animals from sheep to snakes! \nThere is no longer a requirement to pre-book\, but you may wish to in order to speed up your arrival. You can visit between 10 am – 5 pm. Under 2s are free. \nWhy not buy an Annual pass now and visit for a whole year as one of our ‘Farm Friends’ as many times as you like! Just buy your pass via our gift card page or from the shop when you arrive. \nIf South Angle Farm Park is forced to close\, your ticket will be refunded. \nTo view our prices click here.\nTo see how to find us click here.
URL:https://www.southanglefarmpark.co.uk/event/halloween-7/
LOCATION:South Angle Farm Park\, United Kingdom
CATEGORIES:We are open
END:VEVENT
BEGIN:VEVENT
DTSTART;TZID=UTC:20261031T100000
DTEND;TZID=UTC:20261101T095959
DTSTAMP:20260420T012901
CREATED:20260130T112919Z
LAST-MODIFIED:20260130T112919Z
UID:10005740-1793440800-1793527199@www.southanglefarmpark.co.uk
SUMMARY:Halloween
DESCRIPTION:It’s Halloween! \n \nSouth Angle Farm Park is one of the best family days out in Cambridgeshire\, with loads of opportunities to meet and interact with a diverse array of animals from sheep to snakes! \nThere is no longer a requirement to pre-book\, but you may wish to in order to speed up your arrival. You can visit between 10 am – 5 pm. Under 2s are free. \nWhy not buy an Annual pass now and visit for a whole year as one of our ‘Farm Friends’ as many times as you like! Just buy your pass via our gift card page or from the shop when you arrive. \nIf South Angle Farm Park is forced to close\, your ticket will be refunded. \nTo view our prices click here.\nTo see how to find us click here.
URL:https://www.southanglefarmpark.co.uk/event/halloween-8/
LOCATION:South Angle Farm Park\, United Kingdom
CATEGORIES:We are open
END:VEVENT
BEGIN:VEVENT
DTSTART;TZID=UTC:20261101T100000
DTEND;TZID=UTC:20261102T095959
DTSTAMP:20260420T012901
CREATED:20260130T113104Z
LAST-MODIFIED:20260130T113104Z
UID:10005741-1793527200-1793613599@www.southanglefarmpark.co.uk
SUMMARY:Halloween
DESCRIPTION:It’s Halloween! \n \nSouth Angle Farm Park is one of the best family days out in Cambridgeshire\, with loads of opportunities to meet and interact with a diverse array of animals from sheep to snakes! \nThere is no longer a requirement to pre-book\, but you may wish to in order to speed up your arrival. You can visit between 10 am – 5 pm. Under 2s are free. \nWhy not buy an Annual pass now and visit for a whole year as one of our ‘Farm Friends’ as many times as you like! Just buy your pass via our gift card page or from the shop when you arrive. \nIf South Angle Farm Park is forced to close\, your ticket will be refunded. \nTo view our prices click here.\nTo see how to find us click here.
URL:https://www.southanglefarmpark.co.uk/event/halloween-9/
LOCATION:South Angle Farm Park\, United Kingdom
CATEGORIES:We are open
END:VEVENT
BEGIN:VEVENT
DTSTART;TZID=UTC:20261102T100000
DTEND;TZID=UTC:20261103T095959
DTSTAMP:20260420T012901
CREATED:20250121T121018Z
LAST-MODIFIED:20260205T123934Z
UID:10001668-1793613600-1793699999@www.southanglefarmpark.co.uk
SUMMARY:Closed - Term Time Mondays
DESCRIPTION:
URL:https://www.southanglefarmpark.co.uk/event/closed-2-2/2026-11-02/
LOCATION:South Angle Farm Park\, United Kingdom
CATEGORIES:We are closed
END:VEVENT
BEGIN:VEVENT
DTSTART;TZID=UTC:20261103T100000
DTEND;TZID=UTC:20261104T095959
DTSTAMP:20260420T012901
CREATED:20260130T115408Z
LAST-MODIFIED:20260130T115408Z
UID:10005806-1793700000-1793786399@www.southanglefarmpark.co.uk
SUMMARY:Closed for Winter
DESCRIPTION:
URL:https://www.southanglefarmpark.co.uk/event/closed-for-winter-2/2026-11-03/
LOCATION:South Angle Farm Park\, United Kingdom
CATEGORIES:We are closed
END:VEVENT
BEGIN:VEVENT
DTSTART;TZID=UTC:20261104T100000
DTEND;TZID=UTC:20261105T095959
DTSTAMP:20260420T012901
CREATED:20260130T115408Z
LAST-MODIFIED:20260130T115408Z
UID:10005807-1793786400-1793872799@www.southanglefarmpark.co.uk
SUMMARY:Closed for Winter
DESCRIPTION:
URL:https://www.southanglefarmpark.co.uk/event/closed-for-winter-2/2026-11-04/
LOCATION:South Angle Farm Park\, United Kingdom
CATEGORIES:We are closed
END:VEVENT
BEGIN:VEVENT
DTSTART;TZID=UTC:20261105T100000
DTEND;TZID=UTC:20261106T095959
DTSTAMP:20260420T012901
CREATED:20260130T115408Z
LAST-MODIFIED:20260130T115408Z
UID:10005808-1793872800-1793959199@www.southanglefarmpark.co.uk
SUMMARY:Closed for Winter
DESCRIPTION:
URL:https://www.southanglefarmpark.co.uk/event/closed-for-winter-2/2026-11-05/
LOCATION:South Angle Farm Park\, United Kingdom
CATEGORIES:We are closed
END:VEVENT
BEGIN:VEVENT
DTSTART;TZID=UTC:20261106T100000
DTEND;TZID=UTC:20261107T095959
DTSTAMP:20260420T012901
CREATED:20260130T115408Z
LAST-MODIFIED:20260130T115408Z
UID:10005809-1793959200-1794045599@www.southanglefarmpark.co.uk
SUMMARY:Closed for Winter
DESCRIPTION:
URL:https://www.southanglefarmpark.co.uk/event/closed-for-winter-2/2026-11-06/
LOCATION:South Angle Farm Park\, United Kingdom
CATEGORIES:We are closed
END:VEVENT
END:VCALENDAR