BEGIN:VCALENDAR
VERSION:2.0
PRODID:-//Welcome to South Angle Farm Park - ECPv6.15.20//NONSGML v1.0//EN
CALSCALE:GREGORIAN
METHOD:PUBLISH
X-WR-CALNAME:Welcome to South Angle Farm Park
X-ORIGINAL-URL:https://www.southanglefarmpark.co.uk
X-WR-CALDESC:Events for Welcome to South Angle Farm Park
REFRESH-INTERVAL;VALUE=DURATION:PT1H
X-Robots-Tag:noindex
X-PUBLISHED-TTL:PT1H
BEGIN:VTIMEZONE
TZID:UTC
BEGIN:STANDARD
TZOFFSETFROM:+0000
TZOFFSETTO:+0000
TZNAME:UTC
DTSTART:20250101T000000
END:STANDARD
END:VTIMEZONE
BEGIN:VEVENT
DTSTART;TZID=UTC:20261109T100000
DTEND;TZID=UTC:20261110T095959
DTSTAMP:20260422T203321
CREATED:20250121T121018Z
LAST-MODIFIED:20260205T123934Z
UID:10001669-1794218400-1794304799@www.southanglefarmpark.co.uk
SUMMARY:Closed - Term Time Mondays
DESCRIPTION:
URL:https://www.southanglefarmpark.co.uk/event/closed-2-2/2026-11-09/
LOCATION:South Angle Farm Park\, United Kingdom
CATEGORIES:We are closed
END:VEVENT
BEGIN:VEVENT
DTSTART;TZID=UTC:20261110T100000
DTEND;TZID=UTC:20261111T095959
DTSTAMP:20260422T203321
CREATED:20260130T115408Z
LAST-MODIFIED:20260130T115408Z
UID:10005810-1794304800-1794391199@www.southanglefarmpark.co.uk
SUMMARY:Closed for Winter
DESCRIPTION:
URL:https://www.southanglefarmpark.co.uk/event/closed-for-winter-2/2026-11-10/
LOCATION:South Angle Farm Park\, United Kingdom
CATEGORIES:We are closed
END:VEVENT
BEGIN:VEVENT
DTSTART;TZID=UTC:20261111T100000
DTEND;TZID=UTC:20261112T095959
DTSTAMP:20260422T203321
CREATED:20260130T115408Z
LAST-MODIFIED:20260130T115408Z
UID:10005811-1794391200-1794477599@www.southanglefarmpark.co.uk
SUMMARY:Closed for Winter
DESCRIPTION:
URL:https://www.southanglefarmpark.co.uk/event/closed-for-winter-2/2026-11-11/
LOCATION:South Angle Farm Park\, United Kingdom
CATEGORIES:We are closed
END:VEVENT
BEGIN:VEVENT
DTSTART;TZID=UTC:20261112T100000
DTEND;TZID=UTC:20261113T095959
DTSTAMP:20260422T203321
CREATED:20260130T115408Z
LAST-MODIFIED:20260130T115408Z
UID:10005812-1794477600-1794563999@www.southanglefarmpark.co.uk
SUMMARY:Closed for Winter
DESCRIPTION:
URL:https://www.southanglefarmpark.co.uk/event/closed-for-winter-2/2026-11-12/
LOCATION:South Angle Farm Park\, United Kingdom
CATEGORIES:We are closed
END:VEVENT
BEGIN:VEVENT
DTSTART;TZID=UTC:20261113T100000
DTEND;TZID=UTC:20261114T095959
DTSTAMP:20260422T203321
CREATED:20260130T115408Z
LAST-MODIFIED:20260130T115408Z
UID:10005813-1794564000-1794650399@www.southanglefarmpark.co.uk
SUMMARY:Closed for Winter
DESCRIPTION:
URL:https://www.southanglefarmpark.co.uk/event/closed-for-winter-2/2026-11-13/
LOCATION:South Angle Farm Park\, United Kingdom
CATEGORIES:We are closed
END:VEVENT
END:VCALENDAR